BEGIN:VCALENDAR
VERSION:2.0
PRODID:-//Rapids Foodservice Contract and Design - ECPv6.15.16//NONSGML v1.0//EN
CALSCALE:GREGORIAN
METHOD:PUBLISH
X-WR-CALNAME:Rapids Foodservice Contract and Design
X-ORIGINAL-URL:https://rapidscontract.com
X-WR-CALDESC:Events for Rapids Foodservice Contract and Design
REFRESH-INTERVAL;VALUE=DURATION:PT1H
X-Robots-Tag:noindex
X-PUBLISHED-TTL:PT1H
BEGIN:VTIMEZONE
TZID:America/Chicago
BEGIN:DAYLIGHT
TZOFFSETFROM:-0600
TZOFFSETTO:-0500
TZNAME:CDT
DTSTART:20240310T080000
END:DAYLIGHT
BEGIN:STANDARD
TZOFFSETFROM:-0500
TZOFFSETTO:-0600
TZNAME:CST
DTSTART:20241103T070000
END:STANDARD
BEGIN:DAYLIGHT
TZOFFSETFROM:-0600
TZOFFSETTO:-0500
TZNAME:CDT
DTSTART:20250309T080000
END:DAYLIGHT
BEGIN:STANDARD
TZOFFSETFROM:-0500
TZOFFSETTO:-0600
TZNAME:CST
DTSTART:20251102T070000
END:STANDARD
BEGIN:DAYLIGHT
TZOFFSETFROM:-0600
TZOFFSETTO:-0500
TZNAME:CDT
DTSTART:20260308T080000
END:DAYLIGHT
BEGIN:STANDARD
TZOFFSETFROM:-0500
TZOFFSETTO:-0600
TZNAME:CST
DTSTART:20261101T070000
END:STANDARD
END:VTIMEZONE
BEGIN:VEVENT
DTSTART;TZID=America/Chicago:20250414T120000
DTEND;TZID=America/Chicago:20250414T160000
DTSTAMP:20260425T151641
CREATED:20250415T160710Z
LAST-MODIFIED:20250415T173113Z
UID:33977-1744632000-1744646400@rapidscontract.com
SUMMARY:Hospitality of Minnesota Show
DESCRIPTION:Join us at the Hospitality of Minnesota Show on April 14th at the Saint Paul RiverCentre in St. Paul\, MN! Rapids Foodservice Contract & Design will be there to showcase the latest in commercial kitchen solutions. Don’t miss your chance to connect with us and explore innovative foodservice equipment & innovative design to enhance your operations. \n			\n			\n				\n				\n				\n				\n			\n				\n				\n				\n				\n				\n				\n			\n				\n				\n				\n				\n			\n				\n				\n				\n				\n				\n				\n				\n				\n				\n				\n				Experience the Power of Induction Cooking\nThe Vollrath Induction Range is perfect for buffets\, hotel breakfasts\, and even hotel rooms for extended-stay guests. Cook and serve right in the lobby\, keeping food warm\, safe\, and ready to enjoy. Its durable stainless steel construction and ceramic top provide precise control from 100°F to 450°F\, offering flexibility for various cooking needs. \nMade in the USA with a lifetime warranty\, it’s designed for reliable performance in both commercial and hospitality settings. Whether you’re enhancing a buffet or offering guests a convenient cooking solution in their rooms\, the Vollrath Induction Range is the ideal choice. Read more about the Vollrath Induction Range in our latest newsletter. \n			\n				Have Questions? Contact Us\n			\n			\n				\n				\n				\n				\n				\n				\n				\n				\n				\n				\n			\n			\n				\n				\n				\n				\n			\n				\n				\n				\n				\n				\n				\n			\n				\n				\n				\n				\n			\n				\n				\n				\n				\n				\n				\n				\n				\n				\n				\n				\n				\n					\n					\n				\n				\n			\n			\n				\n				\n				\n				\n				\n				\n				\n				\n				\n				No PFAS – No Problem\nIn Minnesota\, PFAS are now strictly prohibited in cookware\, ensuring your kitchen tools are free from harmful chemicals. You can rest easy knowing that your cooking is safer\, with no risk of harmful substances leaching into your food. Learn more about Minnesota’s PFAS restrictions. \n			\n			\n				\n				\n				\n				\n			\n				\n				\n				\n				\n				\n				\n				\n				\n				\n				\n				Curious about how to properly season a traditional fry pan? Ask us! In this video\, watch as a Vollrath Chef Rich demonstrates the best techniques to season your pan for optimal performance. We’ll guide you through the process to ensure your cookware performs at its best\, with no PFAS concerns\, and helps you achieve perfect cooking results every time. \n			\n				\n				\n				\n				\n				Special Giveaway Featuring Vollrath’s Products!\nWe’re excited to announce a fantastic giveaway featuring Vollrath’s high-quality products at the Hospitality Conference: \n			\n			\n				\n				\n				\n				\n			\n				\n				\n				\n				\n				\n				\n				\n				\n				\n				\n				\n					\n					\n						Induction Range\n						Ideal for buffets and breakfasts. Auto-pan detection\, 1-180 minute timer\, ceramic top\, stainless steel case\, 100-450°F range. Made in the USA with a lifetime warranty. \n					\n				\n			\n			\n				\n				\n				\n				\n				\n				\n				\n				\n				\n				\n					\n					\n						Induction Range Nylon Bag\n						A padded carrying case designed to transport and protect select countertop induction range models. \n					\n				\n			\n			\n				\n				\n				\n				\n				\n				\n				\n				\n				\n				\n					\n					\n						Optio™ Deluxe Seven-Piece Cookware Set\n						Stainless steel\, induction-ready\, even heating\, welded handles. Includes: 1 Qt saucepan with lid\, 2 3/4 Qt saucepan with lid\, 6 3/4 Qt sauce pot with lid\, and 9.5″ fry pan.
URL:https://rapidscontract.com/event/hospitality-of-minnesota-show/
LOCATION:Saint Paul RiverCentre\, 175 Kellogg Blvd\, St Paul\, MN\, 55102\, United States
CATEGORIES:Conferences
END:VEVENT
END:VCALENDAR