BEGIN:VCALENDAR
VERSION:2.0
PRODID:-//Rapids Foodservice Contract and Design - ECPv6.15.16//NONSGML v1.0//EN
CALSCALE:GREGORIAN
METHOD:PUBLISH
X-ORIGINAL-URL:https://rapidscontract.com
X-WR-CALDESC:Events for Rapids Foodservice Contract and Design
REFRESH-INTERVAL;VALUE=DURATION:PT1H
X-Robots-Tag:noindex
X-PUBLISHED-TTL:PT1H
BEGIN:VTIMEZONE
TZID:America/Chicago
BEGIN:DAYLIGHT
TZOFFSETFROM:-0600
TZOFFSETTO:-0500
TZNAME:CDT
DTSTART:20240310T080000
END:DAYLIGHT
BEGIN:STANDARD
TZOFFSETFROM:-0500
TZOFFSETTO:-0600
TZNAME:CST
DTSTART:20241103T070000
END:STANDARD
BEGIN:DAYLIGHT
TZOFFSETFROM:-0600
TZOFFSETTO:-0500
TZNAME:CDT
DTSTART:20250309T080000
END:DAYLIGHT
BEGIN:STANDARD
TZOFFSETFROM:-0500
TZOFFSETTO:-0600
TZNAME:CST
DTSTART:20251102T070000
END:STANDARD
BEGIN:DAYLIGHT
TZOFFSETFROM:-0600
TZOFFSETTO:-0500
TZNAME:CDT
DTSTART:20260308T080000
END:DAYLIGHT
BEGIN:STANDARD
TZOFFSETFROM:-0500
TZOFFSETTO:-0600
TZNAME:CST
DTSTART:20261101T070000
END:STANDARD
END:VTIMEZONE
BEGIN:VEVENT
DTSTART;VALUE=DATE:20250617
DTEND;VALUE=DATE:20250620
DTSTAMP:20260425T122553
CREATED:20250415T184759Z
LAST-MODIFIED:20260211T200107Z
UID:34046-1750118400-1750377599@rapidscontract.com
SUMMARY:SNAI Annual Conference
DESCRIPTION:Rapids is proud to attend the 2025 SNAI Annual Conference\, hosted at the Hyatt Regency in the Iowa River Landing district of Coralville. This annual event brings together school nutrition professionals from across Iowa for education\, networking\, and industry insights. We’re looking forward to connecting with attendees and sharing foodservice equipment and design solutions that help create efficient\, student-focused kitchen and cafeteria environments.
URL:https://rapidscontract.com/event/snai-annual-conference-2025/
LOCATION:Hyatt Regency Coralville Hotel & Conference Center\, 300 E 9th St\, Coralville\, IA\, 52241\, United States
CATEGORIES:Conferences
END:VEVENT
END:VCALENDAR