BEGIN:VCALENDAR
VERSION:2.0
PRODID:-//Rapids Foodservice Contract and Design - ECPv6.15.16//NONSGML v1.0//EN
CALSCALE:GREGORIAN
METHOD:PUBLISH
X-WR-CALNAME:Rapids Foodservice Contract and Design
X-ORIGINAL-URL:https://rapidscontract.com
X-WR-CALDESC:Events for Rapids Foodservice Contract and Design
REFRESH-INTERVAL;VALUE=DURATION:PT1H
X-Robots-Tag:noindex
X-PUBLISHED-TTL:PT1H
BEGIN:VTIMEZONE
TZID:America/Chicago
BEGIN:DAYLIGHT
TZOFFSETFROM:-0600
TZOFFSETTO:-0500
TZNAME:CDT
DTSTART:20250309T080000
END:DAYLIGHT
BEGIN:STANDARD
TZOFFSETFROM:-0500
TZOFFSETTO:-0600
TZNAME:CST
DTSTART:20251102T070000
END:STANDARD
BEGIN:DAYLIGHT
TZOFFSETFROM:-0600
TZOFFSETTO:-0500
TZNAME:CDT
DTSTART:20260308T080000
END:DAYLIGHT
BEGIN:STANDARD
TZOFFSETFROM:-0500
TZOFFSETTO:-0600
TZNAME:CST
DTSTART:20261101T070000
END:STANDARD
BEGIN:DAYLIGHT
TZOFFSETFROM:-0600
TZOFFSETTO:-0500
TZNAME:CDT
DTSTART:20270314T080000
END:DAYLIGHT
BEGIN:STANDARD
TZOFFSETFROM:-0500
TZOFFSETTO:-0600
TZNAME:CST
DTSTART:20271107T070000
END:STANDARD
END:VTIMEZONE
BEGIN:VEVENT
DTSTART;VALUE=DATE:20260623
DTEND;VALUE=DATE:20260626
DTSTAMP:20260424T103333
CREATED:20260211T200055Z
LAST-MODIFIED:20260211T200525Z
UID:40550-1782172800-1782431999@rapidscontract.com
SUMMARY:SNAI Annual Conference 2026
DESCRIPTION:Rapids is proud to attend the 2026 SNAI Annual Conference! This annual event brings together school nutrition professionals from across Iowa for education\, networking\, and industry insights. We look forward to connecting with attendees and sharing foodservice equipment and design solutions that help create efficient\, student-focused kitchen and cafeteria environments. \n			\n			\n				\n				\n				\n				\n			\n				\n				\n				\n				\n				\n				\n				\n				\n				\n				\n				\n			\n			\n				\n				\n				\n				\n				\n				\n				\n				\n				\n				Meet Our Team at the 2026 SNAI Annual Conference\nMackenzie Beals and Luke Green will be at the 2026 SNAI Annual Conference to answer your questions and be your go-to resource for all things Rapids. \nMackenzie\, Business Development Lead for our Iowa branch\, brings expertise across multiple foodservice segments. Luke\, our Solutions Engineer\, provides technical guidance and insights on Rapids’ foodservice equipment and project solutions.
URL:https://rapidscontract.com/event/snai-annual-conference-2026/
LOCATION:WI
CATEGORIES:Conferences
END:VEVENT
BEGIN:VEVENT
DTSTART;TZID=America/Chicago:20260805T080000
DTEND;TZID=America/Chicago:20260805T120000
DTSTAMP:20260424T103333
CREATED:20260211T202850Z
LAST-MODIFIED:20260211T202853Z
UID:40570-1785916800-1785931200@rapidscontract.com
SUMMARY:SAI Annual Conference 2026
DESCRIPTION:Join Rapids Foodservice at the 2026 SAI Annual Conference and connect with school administrators from across Iowa. This annual event offers the chance to network with colleagues and hear from both local and national speakers on timely and relevant topics for school operations. \n			\n			\n				\n				\n				\n				\n			\n				\n				\n				\n				\n				\n				\n				\n				\n				\n				\n				Prepare to be motivated and inspired as you gain insights and strategies to start the new school year strong. Rapids is excited to share foodservice solutions and support your school’s kitchen and cafeteria goals. \n			\n			\n				\n				\n				\n				\n			\n				\n				\n				\n				\n				\n				\n				\n				\n				\n				\n				\n			\n			\n				\n				\n				\n				\n				\n				\n				\n				\n				\n				Meet Our Team at the 2026 SAI Annual Conference\nMackenzie Beals and Luke Green will be at the 2026 SAI Annual Conference to answer your questions and be your go-to resource for all things Rapids. \nMackenzie\, Business Development Lead for our Iowa branch\, brings expertise across multiple foodservice segments. Luke\, our Solutions Engineer\, provides technical guidance and insights on Rapids’ foodservice equipment and project solutions.
URL:https://rapidscontract.com/event/sai-annual-conference-2026/
LOCATION:Community Choice Convention Center\, 833 5th Avenue\, Des Moines\, IA\, 50309\, United States
CATEGORIES:Conferences
END:VEVENT
BEGIN:VEVENT
DTSTART;VALUE=DATE:20260923
DTEND;VALUE=DATE:20260926
DTSTAMP:20260424T103333
CREATED:20260211T211119Z
LAST-MODIFIED:20260211T211123Z
UID:40606-1790121600-1790380799@rapidscontract.com
SUMMARY:Iowa League of Cities Annual Conference & Exhibit 2026
DESCRIPTION:Rapids is excited to attend the Iowa League of Cities Annual Conference & Exhibit 2026\, the organization’s largest educational offering of the year. This three-day event draws hundreds of city officials from across Iowa for learning\, networking\, and sharing insights on topics that impact communities statewide. \nRapids is excited to attend the Iowa League of Cities Annual Conference & Exhibit 2026\, the organization’s largest educational offering of the year. This three-day event draws hundreds of city officials from across Iowa for learning\, networking\, and sharing insights on topics that impact communities statewide. \n			\n			\n				\n				\n				\n				\n			\n				\n				\n				\n				\n				\n				\n			\n				\n				\n				\n				\n			\n				\n				\n				\n				\n				\n				\n				\n				\n				\n				\n				\n			\n			\n				\n				\n				\n				\n				\n				\n				\n				\n				\n				Meet Our Team at the 2026 Iowa League of Cities Annual Conference\nMackenzie Beals and Luke Green will be at the 2026 Iowa League of Cities Annual Conference to answer your questions and be your go-to resource for all things Rapids. \nMackenzie\, Business Development Lead for our Iowa branch\, brings expertise across multiple foodservice segments. Luke\, our Solutions Engineer\, provides technical guidance and insights on Rapids’ foodservice equipment and project solutions.
URL:https://rapidscontract.com/event/iowa-league-of-cities-2026/
LOCATION:WI
CATEGORIES:Conferences
END:VEVENT
BEGIN:VEVENT
DTSTART;VALUE=DATE:20260924
DTEND;VALUE=DATE:20260926
DTSTAMP:20260424T103333
CREATED:20260211T203915Z
LAST-MODIFIED:20260211T204605Z
UID:40581-1790208000-1790380799@rapidscontract.com
SUMMARY:AIA Iowa Convention 2026
DESCRIPTION:Rapids is looking forward to attending the 2026 AIA Iowa Convention at the Iowa Events Center in Des Moines. This annual event brings together architects\, designers\, and industry experts for two days of learning\, networking\, and forward-thinking discussions. \n			\n			\n				\n				\n				\n				\n			\n				\n				\n				\n				\n				\n				\n				\n				\n				\n				\n				At Rapids\, we believe thoughtful design is key to creating commercial kitchens and bars that support both efficiency and long-term success. Our team will be sharing how our kitchen and bar design solutions drive labor efficiency and enhance purpose-driven spaces\, helping foodservice operations run smoothly and sustainably. \nWe look forward to connecting with attendees and exploring how innovative design can shape the future of foodservice spaces. \n			\n			\n				\n				\n				\n				\n			\n				\n				\n				\n				\n				\n				\n				\n				\n				\n				\n				\n			\n			\n				\n				\n				\n				\n				\n				\n				\n				\n				\n				Meet Our Team at the 2026 AIA Iowa Convention\nMackenzie Beals and Luke Green will be at the 2026 AIA Iowa Convention to answer your questions and be your go-to resource for all things Rapids. \nMackenzie\, Business Development Lead for our Iowa branch\, brings expertise across multiple foodservice segments. Luke\, our Solutions Engineer\, provides technical guidance and insights on Rapids’ foodservice equipment and project solutions.
URL:https://rapidscontract.com/event/aia-iowa-convention-2026/
LOCATION:Iowa Events Center\, 833 5th Ave.\, Des Moines\, IA\, 50309\, United States
CATEGORIES:Conferences
END:VEVENT
BEGIN:VEVENT
DTSTART;VALUE=DATE:20260929
DTEND;VALUE=DATE:20261002
DTSTAMP:20260424T103333
CREATED:20260211T205649Z
LAST-MODIFIED:20260211T205958Z
UID:40597-1790640000-1790899199@rapidscontract.com
SUMMARY:AIA Kansas Conference 2026
DESCRIPTION:Rapids is looking forward to attending the 2026 AIA Kansas Conference at the historic Cyrus Hotel in Topeka on September 30 & October 1\, with Pre-Conference events on September 29. This annual event brings together architects\, designers\, and industry experts for two days of learning\, networking\, and forward-thinking discussions. \n			\n			\n				\n				\n				\n				\n			\n				\n				\n				\n				\n				\n				\n				\n				\n				\n				\n				At Rapids\, we believe thoughtful design is key to creating commercial kitchens and bars that support both efficiency and long-term success. Our team will be sharing how our kitchen and bar design solutions drive labor efficiency and enhance purpose-driven spaces\, helping foodservice operations run smoothly and sustainably. \nWe look forward to connecting with attendees and exploring how innovative design can shape the future of foodservice spaces.
URL:https://rapidscontract.com/event/aia-kansas-conference-2026/
LOCATION:Cyrus Hotel – Topeka\, 920 S Kansas Ave\, Topeka\, KS\, 66612\, United States
CATEGORIES:Conferences
END:VEVENT
BEGIN:VEVENT
DTSTART;VALUE=DATE:20261109
DTEND;VALUE=DATE:20261112
DTSTAMP:20260424T103333
CREATED:20260211T214056Z
LAST-MODIFIED:20260306T164554Z
UID:40632-1794182400-1794441599@rapidscontract.com
SUMMARY:AIA A'26 MN Conference on Architecture
DESCRIPTION:Rapids is excited to exhibit AIA Minnesota A’26 Conference on Architecture! This dynamic event brings together architects from across Minnesota for three days of inspiring education sessions\, engaging speakers\, and valuable opportunities to connect with the state’s vibrant architecture community. \n			\n			\n				\n				\n				\n				\n			\n				\n				\n				\n				\n				\n				\n				\n				\n				\n				\n				We’ll be showcasing our commercial kitchen and bar solutions designed to support innovative\, functional\, and impactful spaces. Whether you’re designing a new project or renovating an existing space\, Rapids offers expert guidance and products to help architects bring their visions to life with efficient\, integrated foodservice environments. \n			\n				\n				\n				\n				\n				\n					\n					\n						Meet Steve West\n						Steve will be at the A’26 MN Conference on Architecture and is here to answer all your questions and be your source for all things Rapids!As the Business Development lead for our Minnesota branch\, Steve brings expertise across multiple foodservice segments\, helping architects and designers create efficient\, functional\, and innovative commercial kitchen and bar spaces.
URL:https://rapidscontract.com/event/a26-mn-conference-architecture/
LOCATION:Depot Renaissance Minneapolis Hotel\, 225 3rd Ave S\, Minneapolis\, MN\, 55401\, United States
CATEGORIES:Conferences
END:VEVENT
END:VCALENDAR