BEGIN:VCALENDAR
VERSION:2.0
PRODID:-//Rapids Foodservice Contract and Design - ECPv6.15.16//NONSGML v1.0//EN
CALSCALE:GREGORIAN
METHOD:PUBLISH
X-ORIGINAL-URL:https://rapidscontract.com
X-WR-CALDESC:Events for Rapids Foodservice Contract and Design
REFRESH-INTERVAL;VALUE=DURATION:PT1H
X-Robots-Tag:noindex
X-PUBLISHED-TTL:PT1H
BEGIN:VTIMEZONE
TZID:America/Chicago
BEGIN:DAYLIGHT
TZOFFSETFROM:-0600
TZOFFSETTO:-0500
TZNAME:CDT
DTSTART:20250309T080000
END:DAYLIGHT
BEGIN:STANDARD
TZOFFSETFROM:-0500
TZOFFSETTO:-0600
TZNAME:CST
DTSTART:20251102T070000
END:STANDARD
BEGIN:DAYLIGHT
TZOFFSETFROM:-0600
TZOFFSETTO:-0500
TZNAME:CDT
DTSTART:20260308T080000
END:DAYLIGHT
BEGIN:STANDARD
TZOFFSETFROM:-0500
TZOFFSETTO:-0600
TZNAME:CST
DTSTART:20261101T070000
END:STANDARD
BEGIN:DAYLIGHT
TZOFFSETFROM:-0600
TZOFFSETTO:-0500
TZNAME:CDT
DTSTART:20270314T080000
END:DAYLIGHT
BEGIN:STANDARD
TZOFFSETFROM:-0500
TZOFFSETTO:-0600
TZNAME:CST
DTSTART:20271107T070000
END:STANDARD
END:VTIMEZONE
BEGIN:VEVENT
DTSTART;TZID=America/Chicago:20260513T120000
DTEND;TZID=America/Chicago:20260513T133000
DTSTAMP:20260424T105304
CREATED:20251205T143929Z
LAST-MODIFIED:20251205T143933Z
UID:39408-1778673600-1778679000@rapidscontract.com
SUMMARY:Rational Cooking Live
DESCRIPTION:Rapids Foodservice Contract & Design in Marion is proud to host Rational CookingLive May 13 as part of a series of events for Eastern Iowa in 2026! These hands-on\, interactive sessions offer an excellent opportunity for foodservice professionals to experience Rational’s innovative cooking systems up close and in action. \n			\n				Learn More About the Past Events\n			\n			\n				\n				\n				\n				\n			\n				\n				\n				\n				\n				\n				\n				\n				\n				\n				\n				During the event\, you’ll see live demonstrations of two of Rational’s most advanced technologies: \n\niVario Pro – A multifunctional powerhouse that replaces multiple pieces of kitchen equipment. It combines the functions of a fryer\, pot\, pressure cooker\, tilting pan\, and more—all in one highly efficient system.\niCombi Pro – A cutting-edge combi-steamer offering precision\, consistency\, and unmatched versatility across a wide range of cooking applications.\n\nAttendees will have the chance to taste the results\, test ease of use\, and explore the full range of capabilities offered by these systems. Whether you’re cooking in a restaurant\, school\, healthcare facility\, or any high-volume kitchen\, you’ll walk away with practical ideas to improve efficiency\, consistency\, and flexibility in your operation. \n			\n			\n				\n				\n				\n				\n			\n				\n				\n				\n				\n				\n				\n				\n				\n				\n				\n				\n					\n					\n						Who Should Attend?\n						Anyone looking to elevate their kitchen’s operations and versatility is welcome to attend. Whether you’re a restaurant owner\, chef\, or kitchen manager\, this is a valuable learning experience for professionals across the foodservice industry. \n					\n				\n			\n			\n				\n				\n				\n				\n				\n				\n				\n				\n				\n				\n					\n					\n						Cost?\n						The best part? It’s absolutely FREE! There’s no cost to attend\, making it the perfect opportunity for anyone in the foodservice industry to learn how the iVario Pro can elevate kitchen operations without any financial commitment. \n					\n				\n			\n			\n				\n				\n				\n				\n				\n				\n				\n				\n				\n				\n					\n					\n						RSVP & Questions\n						Please RSVP at least 24 hours in advance by contacting Cassie at cassie@cre8tivehs.com to reserve your spot today.
URL:https://rapidscontract.com/event/rational-cooking-live-may-2026/
LOCATION:Rapids – IA Location\, 6201 South Gateway Drive\, Marion\, IA\, 52302\, United States
CATEGORIES:Trainings
ORGANIZER;CN="Creative Hospitality Solutions":MAILTO:Cassie@cre8tivehs.com
END:VEVENT
BEGIN:VEVENT
DTSTART;TZID=America/Chicago:20260610T120000
DTEND;TZID=America/Chicago:20260610T133000
DTSTAMP:20260424T105305
CREATED:20251205T144206Z
LAST-MODIFIED:20251205T151902Z
UID:39416-1781092800-1781098200@rapidscontract.com
SUMMARY:Rational Cooking Live
DESCRIPTION:Rapids Foodservice Contract & Design in Marion is proud to host Rational CookingLive June 10 as part of a series of events for Eastern Iowa in 2026! These hands-on\, interactive sessions offer an excellent opportunity for foodservice professionals to experience Rational’s innovative cooking systems up close and in action. \n			\n				Learn More About the Past Events\n			\n			\n				\n				\n				\n				\n			\n				\n				\n				\n				\n				\n				\n				\n				\n				\n				\n				During the event\, you’ll see live demonstrations of two of Rational’s most advanced technologies: \n\niVario Pro – A multifunctional powerhouse that replaces multiple pieces of kitchen equipment. It combines the functions of a fryer\, pot\, pressure cooker\, tilting pan\, and more—all in one highly efficient system.\niCombi Pro – A cutting-edge combi-steamer offering precision\, consistency\, and unmatched versatility across a wide range of cooking applications.\n\nAttendees will have the chance to taste the results\, test ease of use\, and explore the full range of capabilities offered by these systems. Whether you’re cooking in a restaurant\, school\, healthcare facility\, or any high-volume kitchen\, you’ll walk away with practical ideas to improve efficiency\, consistency\, and flexibility in your operation. \n			\n			\n				\n				\n				\n				\n			\n				\n				\n				\n				\n				\n				\n				\n				\n				\n				\n				\n					\n					\n						Who Should Attend?\n						Anyone looking to elevate their kitchen’s operations and versatility is welcome to attend. Whether you’re a restaurant owner\, chef\, or kitchen manager\, this is a valuable learning experience for professionals across the foodservice industry. \n					\n				\n			\n			\n				\n				\n				\n				\n				\n				\n				\n				\n				\n				\n					\n					\n						Cost?\n						The best part? It’s absolutely FREE! There’s no cost to attend\, making it the perfect opportunity for anyone in the foodservice industry to learn how the iVario Pro can elevate kitchen operations without any financial commitment. \n					\n				\n			\n			\n				\n				\n				\n				\n				\n				\n				\n				\n				\n				\n					\n					\n						RSVP & Questions\n						Please RSVP at least 24 hours in advance by contacting Cassie at cassie@cre8tivehs.com to reserve your spot today.
URL:https://rapidscontract.com/event/rational-cooking-live-june-2026/
LOCATION:Rapids – IA Location\, 6201 South Gateway Drive\, Marion\, IA\, 52302\, United States
CATEGORIES:Trainings
ORGANIZER;CN="Creative Hospitality Solutions":MAILTO:Cassie@cre8tivehs.com
END:VEVENT
BEGIN:VEVENT
DTSTART;TZID=America/Chicago:20260708T120000
DTEND;TZID=America/Chicago:20260708T133000
DTSTAMP:20260424T105305
CREATED:20251205T144407Z
LAST-MODIFIED:20251205T144410Z
UID:39421-1783512000-1783517400@rapidscontract.com
SUMMARY:Rational Cooking Live
DESCRIPTION:Rapids Foodservice Contract & Design in Marion is proud to host Rational CookingLive July 8 as part of a series of events for Eastern Iowa in 2026! These hands-on\, interactive sessions offer an excellent opportunity for foodservice professionals to experience Rational’s innovative cooking systems up close and in action. \n			\n				Learn More About the Past Events\n			\n			\n				\n				\n				\n				\n			\n				\n				\n				\n				\n				\n				\n				\n				\n				\n				\n				During the event\, you’ll see live demonstrations of two of Rational’s most advanced technologies: \n\niVario Pro – A multifunctional powerhouse that replaces multiple pieces of kitchen equipment. It combines the functions of a fryer\, pot\, pressure cooker\, tilting pan\, and more—all in one highly efficient system.\niCombi Pro – A cutting-edge combi-steamer offering precision\, consistency\, and unmatched versatility across a wide range of cooking applications.\n\nAttendees will have the chance to taste the results\, test ease of use\, and explore the full range of capabilities offered by these systems. Whether you’re cooking in a restaurant\, school\, healthcare facility\, or any high-volume kitchen\, you’ll walk away with practical ideas to improve efficiency\, consistency\, and flexibility in your operation. \n			\n			\n				\n				\n				\n				\n			\n				\n				\n				\n				\n				\n				\n				\n				\n				\n				\n				\n					\n					\n						Who Should Attend?\n						Anyone looking to elevate their kitchen’s operations and versatility is welcome to attend. Whether you’re a restaurant owner\, chef\, or kitchen manager\, this is a valuable learning experience for professionals across the foodservice industry. \n					\n				\n			\n			\n				\n				\n				\n				\n				\n				\n				\n				\n				\n				\n					\n					\n						Cost?\n						The best part? It’s absolutely FREE! There’s no cost to attend\, making it the perfect opportunity for anyone in the foodservice industry to learn how the iVario Pro can elevate kitchen operations without any financial commitment. \n					\n				\n			\n			\n				\n				\n				\n				\n				\n				\n				\n				\n				\n				\n					\n					\n						RSVP & Questions\n						Please RSVP at least 24 hours in advance by contacting Cassie at cassie@cre8tivehs.com to reserve your spot today.
URL:https://rapidscontract.com/event/rational-cooking-live-july-2026/
LOCATION:Rapids – IA Location\, 6201 South Gateway Drive\, Marion\, IA\, 52302\, United States
CATEGORIES:Trainings
ORGANIZER;CN="Creative Hospitality Solutions":MAILTO:Cassie@cre8tivehs.com
END:VEVENT
BEGIN:VEVENT
DTSTART;TZID=America/Chicago:20260812T120000
DTEND;TZID=America/Chicago:20260812T133000
DTSTAMP:20260424T105305
CREATED:20251205T144546Z
LAST-MODIFIED:20251205T144550Z
UID:39425-1786536000-1786541400@rapidscontract.com
SUMMARY:Rational Cooking Live
DESCRIPTION:Rapids Foodservice Contract & Design in Marion is proud to host Rational CookingLive August 12 as part of a series of events for Eastern Iowa in 2026! These hands-on\, interactive sessions offer an excellent opportunity for foodservice professionals to experience Rational’s innovative cooking systems up close and in action. \n			\n				Learn More About the Past Events\n			\n			\n				\n				\n				\n				\n			\n				\n				\n				\n				\n				\n				\n				\n				\n				\n				\n				During the event\, you’ll see live demonstrations of two of Rational’s most advanced technologies: \n\niVario Pro – A multifunctional powerhouse that replaces multiple pieces of kitchen equipment. It combines the functions of a fryer\, pot\, pressure cooker\, tilting pan\, and more—all in one highly efficient system.\niCombi Pro – A cutting-edge combi-steamer offering precision\, consistency\, and unmatched versatility across a wide range of cooking applications.\n\nAttendees will have the chance to taste the results\, test ease of use\, and explore the full range of capabilities offered by these systems. Whether you’re cooking in a restaurant\, school\, healthcare facility\, or any high-volume kitchen\, you’ll walk away with practical ideas to improve efficiency\, consistency\, and flexibility in your operation. \n			\n			\n				\n				\n				\n				\n			\n				\n				\n				\n				\n				\n				\n				\n				\n				\n				\n				\n					\n					\n						Who Should Attend?\n						Anyone looking to elevate their kitchen’s operations and versatility is welcome to attend. Whether you’re a restaurant owner\, chef\, or kitchen manager\, this is a valuable learning experience for professionals across the foodservice industry. \n					\n				\n			\n			\n				\n				\n				\n				\n				\n				\n				\n				\n				\n				\n					\n					\n						Cost?\n						The best part? It’s absolutely FREE! There’s no cost to attend\, making it the perfect opportunity for anyone in the foodservice industry to learn how the iVario Pro can elevate kitchen operations without any financial commitment. \n					\n				\n			\n			\n				\n				\n				\n				\n				\n				\n				\n				\n				\n				\n					\n					\n						RSVP & Questions\n						Please RSVP at least 24 hours in advance by contacting Cassie at cassie@cre8tivehs.com to reserve your spot today.
URL:https://rapidscontract.com/event/rational-cooking-live-august-2026/
LOCATION:Rapids – IA Location\, 6201 South Gateway Drive\, Marion\, IA\, 52302\, United States
CATEGORIES:Trainings
ORGANIZER;CN="Creative Hospitality Solutions":MAILTO:Cassie@cre8tivehs.com
END:VEVENT
BEGIN:VEVENT
DTSTART;TZID=America/Chicago:20260909T120000
DTEND;TZID=America/Chicago:20260909T133000
DTSTAMP:20260424T105305
CREATED:20251205T144733Z
LAST-MODIFIED:20251205T144737Z
UID:39429-1788955200-1788960600@rapidscontract.com
SUMMARY:Rational Cooking Live
DESCRIPTION:Rapids Foodservice Contract & Design in Marion is proud to host Rational Cooking Live September 9 as part of a series of events for Eastern Iowa in 2026! These hands-on\, interactive sessions offer an excellent opportunity for foodservice professionals to experience Rational’s innovative cooking systems up close and in action. \n			\n				Learn More About the Past Events\n			\n			\n				\n				\n				\n				\n			\n				\n				\n				\n				\n				\n				\n				\n				\n				\n				\n				During the event\, you’ll see live demonstrations of two of Rational’s most advanced technologies: \n\niVario Pro – A multifunctional powerhouse that replaces multiple pieces of kitchen equipment. It combines the functions of a fryer\, pot\, pressure cooker\, tilting pan\, and more—all in one highly efficient system.\niCombi Pro – A cutting-edge combi-steamer offering precision\, consistency\, and unmatched versatility across a wide range of cooking applications.\n\nAttendees will have the chance to taste the results\, test ease of use\, and explore the full range of capabilities offered by these systems. Whether you’re cooking in a restaurant\, school\, healthcare facility\, or any high-volume kitchen\, you’ll walk away with practical ideas to improve efficiency\, consistency\, and flexibility in your operation. \n			\n			\n				\n				\n				\n				\n			\n				\n				\n				\n				\n				\n				\n				\n				\n				\n				\n				\n					\n					\n						Who Should Attend?\n						Anyone looking to elevate their kitchen’s operations and versatility is welcome to attend. Whether you’re a restaurant owner\, chef\, or kitchen manager\, this is a valuable learning experience for professionals across the foodservice industry. \n					\n				\n			\n			\n				\n				\n				\n				\n				\n				\n				\n				\n				\n				\n					\n					\n						Cost?\n						The best part? It’s absolutely FREE! There’s no cost to attend\, making it the perfect opportunity for anyone in the foodservice industry to learn how the iVario Pro can elevate kitchen operations without any financial commitment. \n					\n				\n			\n			\n				\n				\n				\n				\n				\n				\n				\n				\n				\n				\n					\n					\n						RSVP & Questions\n						Please RSVP at least 24 hours in advance by contacting Cassie at cassie@cre8tivehs.com to reserve your spot today.
URL:https://rapidscontract.com/event/rational-cooking-live-september-2026/
LOCATION:Rapids – IA Location\, 6201 South Gateway Drive\, Marion\, IA\, 52302\, United States
CATEGORIES:Trainings
ORGANIZER;CN="Creative Hospitality Solutions":MAILTO:Cassie@cre8tivehs.com
END:VEVENT
BEGIN:VEVENT
DTSTART;TZID=America/Chicago:20261014T120000
DTEND;TZID=America/Chicago:20261014T133000
DTSTAMP:20260424T105305
CREATED:20251205T144926Z
LAST-MODIFIED:20251205T144929Z
UID:39433-1791979200-1791984600@rapidscontract.com
SUMMARY:Rational Cooking Live
DESCRIPTION:Rapids Foodservice Contract & Design in Marion is proud to host Rational Cooking Live October 14 as part of a series of events for Eastern Iowa in 2026! These hands-on\, interactive sessions offer an excellent opportunity for foodservice professionals to experience Rational’s innovative cooking systems up close and in action. \n			\n				Learn More About the Past Events\n			\n			\n				\n				\n				\n				\n			\n				\n				\n				\n				\n				\n				\n				\n				\n				\n				\n				During the event\, you’ll see live demonstrations of two of Rational’s most advanced technologies: \n\niVario Pro – A multifunctional powerhouse that replaces multiple pieces of kitchen equipment. It combines the functions of a fryer\, pot\, pressure cooker\, tilting pan\, and more—all in one highly efficient system.\niCombi Pro – A cutting-edge combi-steamer offering precision\, consistency\, and unmatched versatility across a wide range of cooking applications.\n\nAttendees will have the chance to taste the results\, test ease of use\, and explore the full range of capabilities offered by these systems. Whether you’re cooking in a restaurant\, school\, healthcare facility\, or any high-volume kitchen\, you’ll walk away with practical ideas to improve efficiency\, consistency\, and flexibility in your operation. \n			\n			\n				\n				\n				\n				\n			\n				\n				\n				\n				\n				\n				\n				\n				\n				\n				\n				\n					\n					\n						Who Should Attend?\n						Anyone looking to elevate their kitchen’s operations and versatility is welcome to attend. Whether you’re a restaurant owner\, chef\, or kitchen manager\, this is a valuable learning experience for professionals across the foodservice industry. \n					\n				\n			\n			\n				\n				\n				\n				\n				\n				\n				\n				\n				\n				\n					\n					\n						Cost?\n						The best part? It’s absolutely FREE! There’s no cost to attend\, making it the perfect opportunity for anyone in the foodservice industry to learn how the iVario Pro can elevate kitchen operations without any financial commitment. \n					\n				\n			\n			\n				\n				\n				\n				\n				\n				\n				\n				\n				\n				\n					\n					\n						RSVP & Questions\n						Please RSVP at least 24 hours in advance by contacting Cassie at cassie@cre8tivehs.com to reserve your spot today.
URL:https://rapidscontract.com/event/rational-cooking-live-october-2026/
LOCATION:Rapids – IA Location\, 6201 South Gateway Drive\, Marion\, IA\, 52302\, United States
CATEGORIES:Trainings
ORGANIZER;CN="Creative Hospitality Solutions":MAILTO:Cassie@cre8tivehs.com
END:VEVENT
BEGIN:VEVENT
DTSTART;TZID=America/Chicago:20261111T120000
DTEND;TZID=America/Chicago:20261111T133000
DTSTAMP:20260424T105305
CREATED:20251205T145128Z
LAST-MODIFIED:20251205T145131Z
UID:39437-1794398400-1794403800@rapidscontract.com
SUMMARY:Rational Cooking Live
DESCRIPTION:Rapids Foodservice Contract & Design in Marion is proud to host Rational Cooking Live November 11 as part of a series of events for Eastern Iowa in 2026! These hands-on\, interactive sessions offer an excellent opportunity for foodservice professionals to experience Rational’s innovative cooking systems up close and in action. \n			\n				Learn More About the Past Events\n			\n			\n				\n				\n				\n				\n			\n				\n				\n				\n				\n				\n				\n				\n				\n				\n				\n				During the event\, you’ll see live demonstrations of two of Rational’s most advanced technologies: \n\niVario Pro – A multifunctional powerhouse that replaces multiple pieces of kitchen equipment. It combines the functions of a fryer\, pot\, pressure cooker\, tilting pan\, and more—all in one highly efficient system.\niCombi Pro – A cutting-edge combi-steamer offering precision\, consistency\, and unmatched versatility across a wide range of cooking applications.\n\nAttendees will have the chance to taste the results\, test ease of use\, and explore the full range of capabilities offered by these systems. Whether you’re cooking in a restaurant\, school\, healthcare facility\, or any high-volume kitchen\, you’ll walk away with practical ideas to improve efficiency\, consistency\, and flexibility in your operation. \n			\n			\n				\n				\n				\n				\n			\n				\n				\n				\n				\n				\n				\n				\n				\n				\n				\n				\n					\n					\n						Who Should Attend?\n						Anyone looking to elevate their kitchen’s operations and versatility is welcome to attend. Whether you’re a restaurant owner\, chef\, or kitchen manager\, this is a valuable learning experience for professionals across the foodservice industry. \n					\n				\n			\n			\n				\n				\n				\n				\n				\n				\n				\n				\n				\n				\n					\n					\n						Cost?\n						The best part? It’s absolutely FREE! There’s no cost to attend\, making it the perfect opportunity for anyone in the foodservice industry to learn how the iVario Pro can elevate kitchen operations without any financial commitment. \n					\n				\n			\n			\n				\n				\n				\n				\n				\n				\n				\n				\n				\n				\n					\n					\n						RSVP & Questions\n						Please RSVP at least 24 hours in advance by contacting Cassie at cassie@cre8tivehs.com to reserve your spot today.
URL:https://rapidscontract.com/event/rational-cooking-live-november-2026/
LOCATION:Rapids – IA Location\, 6201 South Gateway Drive\, Marion\, IA\, 52302\, United States
CATEGORIES:Trainings
ORGANIZER;CN="Creative Hospitality Solutions":MAILTO:Cassie@cre8tivehs.com
END:VEVENT
BEGIN:VEVENT
DTSTART;TZID=America/Chicago:20261209T120000
DTEND;TZID=America/Chicago:20261209T133000
DTSTAMP:20260424T105305
CREATED:20251205T145339Z
LAST-MODIFIED:20251205T145342Z
UID:39441-1796817600-1796823000@rapidscontract.com
SUMMARY:Rational Cooking Live
DESCRIPTION:Rapids Foodservice Contract & Design in Marion is proud to host Rational Cooking Live December 9 as part of a series of events for Eastern Iowa in 2026! These hands-on\, interactive sessions offer an excellent opportunity for foodservice professionals to experience Rational’s innovative cooking systems up close and in action. \n			\n				Learn More About the Past Events\n			\n			\n				\n				\n				\n				\n			\n				\n				\n				\n				\n				\n				\n				\n				\n				\n				\n				During the event\, you’ll see live demonstrations of two of Rational’s most advanced technologies: \n\niVario Pro – A multifunctional powerhouse that replaces multiple pieces of kitchen equipment. It combines the functions of a fryer\, pot\, pressure cooker\, tilting pan\, and more—all in one highly efficient system.\niCombi Pro – A cutting-edge combi-steamer offering precision\, consistency\, and unmatched versatility across a wide range of cooking applications.\n\nAttendees will have the chance to taste the results\, test ease of use\, and explore the full range of capabilities offered by these systems. Whether you’re cooking in a restaurant\, school\, healthcare facility\, or any high-volume kitchen\, you’ll walk away with practical ideas to improve efficiency\, consistency\, and flexibility in your operation. \n			\n			\n				\n				\n				\n				\n			\n				\n				\n				\n				\n				\n				\n				\n				\n				\n				\n				\n					\n					\n						Who Should Attend?\n						Anyone looking to elevate their kitchen’s operations and versatility is welcome to attend. Whether you’re a restaurant owner\, chef\, or kitchen manager\, this is a valuable learning experience for professionals across the foodservice industry. \n					\n				\n			\n			\n				\n				\n				\n				\n				\n				\n				\n				\n				\n				\n					\n					\n						Cost?\n						The best part? It’s absolutely FREE! There’s no cost to attend\, making it the perfect opportunity for anyone in the foodservice industry to learn how the iVario Pro can elevate kitchen operations without any financial commitment. \n					\n				\n			\n			\n				\n				\n				\n				\n				\n				\n				\n				\n				\n				\n					\n					\n						RSVP & Questions\n						Please RSVP at least 24 hours in advance by contacting Cassie at cassie@cre8tivehs.com to reserve your spot today.
URL:https://rapidscontract.com/event/rational-cooking-live-december-2026/
LOCATION:Rapids – IA Location\, 6201 South Gateway Drive\, Marion\, IA\, 52302\, United States
CATEGORIES:Trainings
ORGANIZER;CN="Creative Hospitality Solutions":MAILTO:Cassie@cre8tivehs.com
END:VEVENT
END:VCALENDAR