BEGIN:VCALENDAR
VERSION:2.0
PRODID:-//Rapids Foodservice Contract and Design - ECPv6.15.16//NONSGML v1.0//EN
CALSCALE:GREGORIAN
METHOD:PUBLISH
X-WR-CALNAME:Rapids Foodservice Contract and Design
X-ORIGINAL-URL:https://rapidscontract.com
X-WR-CALDESC:Events for Rapids Foodservice Contract and Design
REFRESH-INTERVAL;VALUE=DURATION:PT1H
X-Robots-Tag:noindex
X-PUBLISHED-TTL:PT1H
BEGIN:VTIMEZONE
TZID:America/Chicago
BEGIN:DAYLIGHT
TZOFFSETFROM:-0600
TZOFFSETTO:-0500
TZNAME:CDT
DTSTART:20240310T080000
END:DAYLIGHT
BEGIN:STANDARD
TZOFFSETFROM:-0500
TZOFFSETTO:-0600
TZNAME:CST
DTSTART:20241103T070000
END:STANDARD
BEGIN:DAYLIGHT
TZOFFSETFROM:-0600
TZOFFSETTO:-0500
TZNAME:CDT
DTSTART:20250309T080000
END:DAYLIGHT
BEGIN:STANDARD
TZOFFSETFROM:-0500
TZOFFSETTO:-0600
TZNAME:CST
DTSTART:20251102T070000
END:STANDARD
BEGIN:DAYLIGHT
TZOFFSETFROM:-0600
TZOFFSETTO:-0500
TZNAME:CDT
DTSTART:20260308T080000
END:DAYLIGHT
BEGIN:STANDARD
TZOFFSETFROM:-0500
TZOFFSETTO:-0600
TZNAME:CST
DTSTART:20261101T070000
END:STANDARD
END:VTIMEZONE
BEGIN:VEVENT
DTSTART;VALUE=DATE:20250226
DTEND;VALUE=DATE:20250301
DTSTAMP:20260425T200856
CREATED:20250415T195845Z
LAST-MODIFIED:20250415T201659Z
UID:34102-1740528000-1740787199@rapidscontract.com
SUMMARY:NAFEM 2025
DESCRIPTION:At Rapids Foodservice Contract & Design\, we’re always looking to stay ahead of the curve. That’s why our team will be attending NAFEM Show 2025 from February 26-28\, 2025\, at the Georgia World Congress Center in Atlanta\, Georgia. We’re excited to explore the latest innovations and trends in the foodservice industry. This annual event brings together experts and industry leaders to showcase the newest products and technologies shaping the future of foodservice. \n			\n			\n				\n				\n				\n				\n			\n				\n				\n				\n				\n				\n				\n				\n				\n				\n				\n				Our team attended NAFEM 2023 and we were inspired by the insights gained. Learn more about our visit to NAFEM in 2023. \n			\n				See What Our Team is Excited About for NAFEM 2025\n			\n				\n				\n				\n				\n				What is NAFEM?\nThe North American Association of Food Equipment Manufacturers (NAFEM) is one of the largest trade shows dedicated to foodservice equipment and supplies. It brings together manufacturers\, designers\, and foodservice professionals to explore the newest products\, technologies\, and industry best practices. \nWhy Stay on Top of Trends?\nBeing in tune with trends allows us to offer innovative solutions that streamline operations and improve the dining experience. By attending events like NAFEM\, we ensure our designs and offerings are not only cutting-edge but also tailored to the needs of today’s dynamic foodservice environment. Stay tuned as we share our experiences from NAFEM 2025!
URL:https://rapidscontract.com/event/nafem-2025/
LOCATION:Georgia World Congress Center\, 285 Andrew Young International Blvd NW\, Atlanta\, GA\, 30313\, United States
CATEGORIES:Conferences
END:VEVENT
END:VCALENDAR