BEGIN:VCALENDAR
VERSION:2.0
PRODID:-//Rapids Foodservice Contract and Design - ECPv6.15.16//NONSGML v1.0//EN
CALSCALE:GREGORIAN
METHOD:PUBLISH
X-WR-CALNAME:Rapids Foodservice Contract and Design
X-ORIGINAL-URL:https://rapidscontract.com
X-WR-CALDESC:Events for Rapids Foodservice Contract and Design
REFRESH-INTERVAL;VALUE=DURATION:PT1H
X-Robots-Tag:noindex
X-PUBLISHED-TTL:PT1H
BEGIN:VTIMEZONE
TZID:America/Chicago
BEGIN:DAYLIGHT
TZOFFSETFROM:-0600
TZOFFSETTO:-0500
TZNAME:CDT
DTSTART:20240310T080000
END:DAYLIGHT
BEGIN:STANDARD
TZOFFSETFROM:-0500
TZOFFSETTO:-0600
TZNAME:CST
DTSTART:20241103T070000
END:STANDARD
BEGIN:DAYLIGHT
TZOFFSETFROM:-0600
TZOFFSETTO:-0500
TZNAME:CDT
DTSTART:20250309T080000
END:DAYLIGHT
BEGIN:STANDARD
TZOFFSETFROM:-0500
TZOFFSETTO:-0600
TZNAME:CST
DTSTART:20251102T070000
END:STANDARD
BEGIN:DAYLIGHT
TZOFFSETFROM:-0600
TZOFFSETTO:-0500
TZNAME:CDT
DTSTART:20260308T080000
END:DAYLIGHT
BEGIN:STANDARD
TZOFFSETFROM:-0500
TZOFFSETTO:-0600
TZNAME:CST
DTSTART:20261101T070000
END:STANDARD
END:VTIMEZONE
BEGIN:VEVENT
DTSTART;TZID=America/Chicago:20250528T080000
DTEND;TZID=America/Chicago:20250530T170000
DTSTAMP:20260425T052004
CREATED:20250505T160343Z
LAST-MODIFIED:20251105T204538Z
UID:34389-1748419200-1748624400@rapidscontract.com
SUMMARY:Rapids Liquidation Sale
DESCRIPTION:Don’t miss our Rapids Liquidation Sale—a garage sale-style event packed with unbeatable deals! \n			\n			\n				\n				\n				\n				\n			\n				\n				\n				\n				\n				\n				\n				\n				\n				\n				\n				Shop our $1\, $5\, $10\, and $20 tables\, featuring a variety of items\, including Scratch & Dent products\, all clearly marked with color-coded stickers for easy identification of value. These items come from Rapids Wholesale\, so you know you’re getting great products at unbeatable prices. \nLooking for even more deals? Check out the clearance section on Rapids Wholesale for additional discounts on top-quality supplies. \n			\n				Learn More About Event!\n			\n			\n				\n				\n				\n				\n				\n				\n				\n				\n				\n				\n				\n			\n				\n				\n				\n				\n				Watch the video for a sneak peek at discounted equipment\, supplies\, and scratch & dent items available at our Rapids Liquidation Sale. \n			\n			\n				\n				\n				\n				\n			\n				\n				\n				\n				\n				\n				\n				\n				\n				\n				\n				Plus\, don’t miss the Born to Fry food truck onsite on May 28th from 11 a.m. to 1 p.m. for delicious eats while you shop. \nSee you there!
URL:https://rapidscontract.com/event/rapids-liquidation-sale/
LOCATION:Rapids – IA Location\, 6201 South Gateway Drive\, Marion\, IA\, 52302\, United States
END:VEVENT
BEGIN:VEVENT
DTSTART;VALUE=DATE:20250517
DTEND;VALUE=DATE:20250521
DTSTAMP:20260425T052004
CREATED:20250421T151554Z
LAST-MODIFIED:20251105T204506Z
UID:34165-1747440000-1747785599@rapidscontract.com
SUMMARY:National Restaurant Association Show
DESCRIPTION:Rapids is heading to the National Restaurant Association Show 2025 in Chicago! As the world’s leading showcase for foodservice innovation\, this event is where the entire industry comes together to explore what’s new and what’s next in hospitality. \n			\n			\n				\n				\n				\n				\n			\n				\n				\n				\n				\n				\n				\n				\n				\n				\n				\n				We’ll be on the ground connecting with partners\, discovering the latest products\, and gaining insights into the trends that are shaping the future of foodservice. From emerging tech to back-of-house solutions\, we’re excited to see it all at the National Restaurant Association Show – and bring those ideas back to better serve our customers. \nIf you’re attending the show\, keep an eye out for our team. We’re always happy to connect\, share insights\, and learn alongside others who are passionate about the foodservice industry. \nCheck back after the event for our team’s takeaways and a look at what we discovered on the show floor.
URL:https://rapidscontract.com/event/nra-2025/
LOCATION:McCormick Place Convention Center\, 2301 S Martin Luther King Dr\, Chicago\, IL\, 60616\, United States
CATEGORIES:Conferences
END:VEVENT
BEGIN:VEVENT
DTSTART;TZID=America/Chicago:20250507T120000
DTEND;TZID=America/Chicago:20250507T133000
DTSTAMP:20260425T052004
CREATED:20250415T194253Z
LAST-MODIFIED:20250902T171134Z
UID:34087-1746619200-1746624600@rapidscontract.com
SUMMARY:Rational Cooking Live
DESCRIPTION:Rapids Foodservice Contract & Design in Marion is proud to host Rational CookingLive May 7 as part of a series of events for Eastern Iowa in 2025! These hands-on\, interactive sessions offer an excellent opportunity for foodservice professionals to experience Rational’s innovative cooking systems up close and in action. \n			\n				Learn More About the Past Events\n			\n			\n				\n				\n				\n				\n			\n				\n				\n				\n				\n				\n				\n				\n				\n				\n				\n				During the event\, you’ll see live demonstrations of two of Rational’s most advanced technologies: \n\niVario Pro – A multifunctional powerhouse that replaces multiple pieces of kitchen equipment. It combines the functions of a fryer\, pot\, pressure cooker\, tilting pan\, and more—all in one highly efficient system.\niCombi Pro – A cutting-edge combi-steamer offering precision\, consistency\, and unmatched versatility across a wide range of cooking applications.\n\nAttendees will have the chance to taste the results\, test ease of use\, and explore the full range of capabilities offered by these systems. Whether you’re cooking in a restaurant\, school\, healthcare facility\, or any high-volume kitchen\, you’ll walk away with practical ideas to improve efficiency\, consistency\, and flexibility in your operation. \n			\n			\n				\n				\n				\n				\n			\n				\n				\n				\n				\n				\n				\n				\n				\n				\n				\n				\n					\n					\n						Who Should Attend?\n						Anyone looking to elevate their kitchen’s operations and versatility is welcome to attend. Whether you’re a restaurant owner\, chef\, or kitchen manager\, this is a valuable learning experience for professionals across the foodservice industry. \n					\n				\n			\n			\n				\n				\n				\n				\n				\n				\n				\n				\n				\n				\n					\n					\n						Cost?\n						The best part? It’s absolutely FREE! There’s no cost to attend\, making it the perfect opportunity for anyone in the foodservice industry to learn how the iVario Pro can elevate kitchen operations without any financial commitment. \n					\n				\n			\n			\n				\n				\n				\n				\n				\n				\n				\n				\n				\n				\n					\n					\n						RSVP & Questions\n						Please RSVP at least 24 hours in advance by contacting Cassie at cassie@cre8tivehs.com to reserve your spot today.
URL:https://rapidscontract.com/event/rational-cooking-live-may-7/
LOCATION:Rapids – IA Location\, 6201 South Gateway Drive\, Marion\, IA\, 52302\, United States
CATEGORIES:Trainings
ORGANIZER;CN="Creative Hospitality Solutions":MAILTO:Cassie@cre8tivehs.com
END:VEVENT
BEGIN:VEVENT
DTSTART;TZID=America/Chicago:20250501T073000
DTEND;TZID=America/Chicago:20250501T083000
DTSTAMP:20260425T052004
CREATED:20250415T201140Z
LAST-MODIFIED:20250415T201148Z
UID:34115-1746084600-1746088200@rapidscontract.com
SUMMARY:Marion Chamber of Commerce “Wake Up Marion”
DESCRIPTION:Rapids is excited to host the Marion Chamber of Commerce’s “Wake Up Marion” event on Thursday\, May 1st from 7:30 AM to 8:30 AM! This morning networking event will take place in our Marion showroom space and offers a great opportunity for local business leaders and professionals to connect\, share ideas\, and enjoy casual conversation over coffee. \n			\n			\n				\n				\n				\n				\n			\n				\n				\n				\n				\n				\n				\n				\n				\n				\n				\n				Whether you’re a long-time Chamber member or new to the community\, Wake Up Marion is a great way to build relationships and stay engaged with fellow members of the Marion business community. We’re proud to support the Chamber and look forward to welcoming everyone into our space.
URL:https://rapidscontract.com/event/marion-chamber-of-commerce-wake-up-marion/
LOCATION:Rapids – IA Location\, 6201 South Gateway Drive\, Marion\, IA\, 52302\, United States
END:VEVENT
BEGIN:VEVENT
DTSTART;TZID=America/Chicago:20250416T120000
DTEND;TZID=America/Chicago:20250416T133000
DTSTAMP:20260425T052004
CREATED:20250415T193235Z
LAST-MODIFIED:20250902T171007Z
UID:34057-1744804800-1744810200@rapidscontract.com
SUMMARY:Rational Cooking Live
DESCRIPTION:Rapids Foodservice Contract & Design in Marion is proud to host Rational CookingLive April 16 as part of a series of events for Eastern Iowa in 2025! These hands-on\, interactive sessions offer an excellent opportunity for foodservice professionals to experience Rational’s innovative cooking systems up close and in action. \n			\n				Learn More About the Past Events\n			\n			\n				\n				\n				\n				\n			\n				\n				\n				\n				\n				\n				\n				\n				\n				\n				\n				During the event\, you’ll see live demonstrations of two of Rational’s most advanced technologies: \n\niVario Pro – A multifunctional powerhouse that replaces multiple pieces of kitchen equipment. It combines the functions of a fryer\, pot\, pressure cooker\, tilting pan\, and more—all in one highly efficient system.\niCombi Pro – A cutting-edge combi-steamer offering precision\, consistency\, and unmatched versatility across a wide range of cooking applications.\n\nAttendees will have the chance to taste the results\, test ease of use\, and explore the full range of capabilities offered by these systems. Whether you’re cooking in a restaurant\, school\, healthcare facility\, or any high-volume kitchen\, you’ll walk away with practical ideas to improve efficiency\, consistency\, and flexibility in your operation. \n			\n			\n				\n				\n				\n				\n			\n				\n				\n				\n				\n				\n				\n				\n				\n				\n				\n				\n					\n					\n						Who Should Attend?\n						Anyone looking to elevate their kitchen’s operations and versatility is welcome to attend. Whether you’re a restaurant owner\, chef\, or kitchen manager\, this is a valuable learning experience for professionals across the foodservice industry. \n					\n				\n			\n			\n				\n				\n				\n				\n				\n				\n				\n				\n				\n				\n					\n					\n						Cost?\n						The best part? It’s absolutely FREE! There’s no cost to attend\, making it the perfect opportunity for anyone in the foodservice industry to learn how the iVario Pro can elevate kitchen operations without any financial commitment. \n					\n				\n			\n			\n				\n				\n				\n				\n				\n				\n				\n				\n				\n				\n					\n					\n						RSVP & Questions\n						Please RSVP at least 24 hours in advance by contacting Cassie at cassie@cre8tivehs.com to reserve your spot today.
URL:https://rapidscontract.com/event/rational-cooking-live-april-16/
LOCATION:Rapids – IA Location\, 6201 South Gateway Drive\, Marion\, IA\, 52302\, United States
CATEGORIES:Trainings
ORGANIZER;CN="Creative Hospitality Solutions":MAILTO:Cassie@cre8tivehs.com
END:VEVENT
BEGIN:VEVENT
DTSTART;TZID=America/Chicago:20250414T120000
DTEND;TZID=America/Chicago:20250414T160000
DTSTAMP:20260425T052004
CREATED:20250415T160710Z
LAST-MODIFIED:20250415T173113Z
UID:33977-1744632000-1744646400@rapidscontract.com
SUMMARY:Hospitality of Minnesota Show
DESCRIPTION:Join us at the Hospitality of Minnesota Show on April 14th at the Saint Paul RiverCentre in St. Paul\, MN! Rapids Foodservice Contract & Design will be there to showcase the latest in commercial kitchen solutions. Don’t miss your chance to connect with us and explore innovative foodservice equipment & innovative design to enhance your operations. \n			\n			\n				\n				\n				\n				\n			\n				\n				\n				\n				\n				\n				\n			\n				\n				\n				\n				\n			\n				\n				\n				\n				\n				\n				\n				\n				\n				\n				\n				Experience the Power of Induction Cooking\nThe Vollrath Induction Range is perfect for buffets\, hotel breakfasts\, and even hotel rooms for extended-stay guests. Cook and serve right in the lobby\, keeping food warm\, safe\, and ready to enjoy. Its durable stainless steel construction and ceramic top provide precise control from 100°F to 450°F\, offering flexibility for various cooking needs. \nMade in the USA with a lifetime warranty\, it’s designed for reliable performance in both commercial and hospitality settings. Whether you’re enhancing a buffet or offering guests a convenient cooking solution in their rooms\, the Vollrath Induction Range is the ideal choice. Read more about the Vollrath Induction Range in our latest newsletter. \n			\n				Have Questions? Contact Us\n			\n			\n				\n				\n				\n				\n				\n				\n				\n				\n				\n				\n			\n			\n				\n				\n				\n				\n			\n				\n				\n				\n				\n				\n				\n			\n				\n				\n				\n				\n			\n				\n				\n				\n				\n				\n				\n				\n				\n				\n				\n				\n				\n					\n					\n				\n				\n			\n			\n				\n				\n				\n				\n				\n				\n				\n				\n				\n				No PFAS – No Problem\nIn Minnesota\, PFAS are now strictly prohibited in cookware\, ensuring your kitchen tools are free from harmful chemicals. You can rest easy knowing that your cooking is safer\, with no risk of harmful substances leaching into your food. Learn more about Minnesota’s PFAS restrictions. \n			\n			\n				\n				\n				\n				\n			\n				\n				\n				\n				\n				\n				\n				\n				\n				\n				\n				Curious about how to properly season a traditional fry pan? Ask us! In this video\, watch as a Vollrath Chef Rich demonstrates the best techniques to season your pan for optimal performance. We’ll guide you through the process to ensure your cookware performs at its best\, with no PFAS concerns\, and helps you achieve perfect cooking results every time. \n			\n				\n				\n				\n				\n				Special Giveaway Featuring Vollrath’s Products!\nWe’re excited to announce a fantastic giveaway featuring Vollrath’s high-quality products at the Hospitality Conference: \n			\n			\n				\n				\n				\n				\n			\n				\n				\n				\n				\n				\n				\n				\n				\n				\n				\n				\n					\n					\n						Induction Range\n						Ideal for buffets and breakfasts. Auto-pan detection\, 1-180 minute timer\, ceramic top\, stainless steel case\, 100-450°F range. Made in the USA with a lifetime warranty. \n					\n				\n			\n			\n				\n				\n				\n				\n				\n				\n				\n				\n				\n				\n					\n					\n						Induction Range Nylon Bag\n						A padded carrying case designed to transport and protect select countertop induction range models. \n					\n				\n			\n			\n				\n				\n				\n				\n				\n				\n				\n				\n				\n				\n					\n					\n						Optio™ Deluxe Seven-Piece Cookware Set\n						Stainless steel\, induction-ready\, even heating\, welded handles. Includes: 1 Qt saucepan with lid\, 2 3/4 Qt saucepan with lid\, 6 3/4 Qt sauce pot with lid\, and 9.5″ fry pan.
URL:https://rapidscontract.com/event/hospitality-of-minnesota-show/
LOCATION:Saint Paul RiverCentre\, 175 Kellogg Blvd\, St Paul\, MN\, 55102\, United States
CATEGORIES:Conferences
END:VEVENT
BEGIN:VEVENT
DTSTART;VALUE=DATE:20250226
DTEND;VALUE=DATE:20250301
DTSTAMP:20260425T052004
CREATED:20250415T195845Z
LAST-MODIFIED:20250415T201659Z
UID:34102-1740528000-1740787199@rapidscontract.com
SUMMARY:NAFEM 2025
DESCRIPTION:At Rapids Foodservice Contract & Design\, we’re always looking to stay ahead of the curve. That’s why our team will be attending NAFEM Show 2025 from February 26-28\, 2025\, at the Georgia World Congress Center in Atlanta\, Georgia. We’re excited to explore the latest innovations and trends in the foodservice industry. This annual event brings together experts and industry leaders to showcase the newest products and technologies shaping the future of foodservice. \n			\n			\n				\n				\n				\n				\n			\n				\n				\n				\n				\n				\n				\n				\n				\n				\n				\n				Our team attended NAFEM 2023 and we were inspired by the insights gained. Learn more about our visit to NAFEM in 2023. \n			\n				See What Our Team is Excited About for NAFEM 2025\n			\n				\n				\n				\n				\n				What is NAFEM?\nThe North American Association of Food Equipment Manufacturers (NAFEM) is one of the largest trade shows dedicated to foodservice equipment and supplies. It brings together manufacturers\, designers\, and foodservice professionals to explore the newest products\, technologies\, and industry best practices. \nWhy Stay on Top of Trends?\nBeing in tune with trends allows us to offer innovative solutions that streamline operations and improve the dining experience. By attending events like NAFEM\, we ensure our designs and offerings are not only cutting-edge but also tailored to the needs of today’s dynamic foodservice environment. Stay tuned as we share our experiences from NAFEM 2025!
URL:https://rapidscontract.com/event/nafem-2025/
LOCATION:Georgia World Congress Center\, 285 Andrew Young International Blvd NW\, Atlanta\, GA\, 30313\, United States
CATEGORIES:Conferences
END:VEVENT
END:VCALENDAR