BEGIN:VCALENDAR
VERSION:2.0
PRODID:-//Rapids Foodservice Contract and Design - ECPv6.15.16//NONSGML v1.0//EN
CALSCALE:GREGORIAN
METHOD:PUBLISH
X-ORIGINAL-URL:https://rapidscontract.com
X-WR-CALDESC:Events for Rapids Foodservice Contract and Design
REFRESH-INTERVAL;VALUE=DURATION:PT1H
X-Robots-Tag:noindex
X-PUBLISHED-TTL:PT1H
BEGIN:VTIMEZONE
TZID:America/Chicago
BEGIN:DAYLIGHT
TZOFFSETFROM:-0600
TZOFFSETTO:-0500
TZNAME:CDT
DTSTART:20250309T080000
END:DAYLIGHT
BEGIN:STANDARD
TZOFFSETFROM:-0500
TZOFFSETTO:-0600
TZNAME:CST
DTSTART:20251102T070000
END:STANDARD
BEGIN:DAYLIGHT
TZOFFSETFROM:-0600
TZOFFSETTO:-0500
TZNAME:CDT
DTSTART:20260308T080000
END:DAYLIGHT
BEGIN:STANDARD
TZOFFSETFROM:-0500
TZOFFSETTO:-0600
TZNAME:CST
DTSTART:20261101T070000
END:STANDARD
BEGIN:DAYLIGHT
TZOFFSETFROM:-0600
TZOFFSETTO:-0500
TZNAME:CDT
DTSTART:20270314T080000
END:DAYLIGHT
BEGIN:STANDARD
TZOFFSETFROM:-0500
TZOFFSETTO:-0600
TZNAME:CST
DTSTART:20271107T070000
END:STANDARD
END:VTIMEZONE
BEGIN:VEVENT
DTSTART;TZID=America/Chicago:20260430T180000
DTEND;TZID=America/Chicago:20260430T200000
DTSTAMP:20260424T105334
CREATED:20260310T142318Z
LAST-MODIFIED:20260310T142322Z
UID:40945-1777572000-1777579200@rapidscontract.com
SUMMARY:Relish the Region Event
DESCRIPTION:Rapids is proud to be a sponsor of the inaugural Relish the Region 2026 event\, an evening that celebrates the culinary creativity and beverage talent of restaurants across the region. \nTaking place April 30 from 6-8 p.m. at the DoubleTree by Hilton\, Relish the Region brings regional restaurants together to showcase their crave-worthy bites and signature cocktails. Guests can sample a variety of dishes and drinks while enjoying live music and a lively atmosphere. \n			\n			\n				\n				\n				\n				\n			\n				\n				\n				\n				\n				\n				\n				\n				\n				\n				\n				The event will also feature a friendly competition where participating restaurants compete for best food and best cocktail\, adding an exciting element to the evening. Guests can also look forward to surprises throughout the night\, including a balloon drop with a chance to win special prizes. \nAs a sponsor\, Rapids is excited to support the talented chefs\, bartenders\, and restaurant teams that make the regional food scene so vibrant. Events like Relish the Region highlight the creativity\, passion\, and innovation that continue to shape the hospitality industry. \nWe look forward to celebrating and supporting our local restaurant community at this exciting new event.
URL:https://rapidscontract.com/event/relish-the-region-2026/
LOCATION:DoubleTree by Hilton\, 350 1st Ave NE\, Cedar Rapids\, IA\, 52401\, United States
END:VEVENT
END:VCALENDAR